Workbook

Sheet 서캠_국제기숙사
B2: 구분 | D2: 월요일 | E2: 화요일 | F2: 수요일 | G2: 목요일 | H2: 금요일 | I2: 토요일 | J2: 일요일 | L2: 소세지브로컬리볶음
D3: 45803 | E3: =D3+1 -> 45804 | F3: =E3+1 -> 45805 | G3: =F3+1 -> 45806 | H3: =G3+1 -> 45807 | I3: =H3+1 -> 45808 | J3: =I3+1 -> 45809 | L3: 김피탕
B4: 조식 | D4: 고깃집맛소금구이 | E4: 소세지브로컬리볶음 | F4: 간장닭갈비 | G4: 양념고등어조림 | H4: 소떡소떡 | I4: 김치만둣국 | J4: 가지돈육볶음 | L4: 콩나물잡채
D5: 쌀밥 | E5: 쌀밥 | F5: 쌀밥 | G5: 쌀밥 | H5: 쌀밥 | I5: 쌀밥 | J5: 쌀밥 | L5: 건두부볶음
D6: 들깨미역국 | E6: 청양초된장찌개 | F6: 냉이된장국 | G6: 어묵국 | H6: 얼큰오징어뭇국 | I6: 사각햄구이&케찹 | J6: 감자고추장찌개 | L6: 분짜
D7: 무말랭이무침 | E7: 매콤마늘쫑 | F7: 건파래무침 | G7: 고구마샐러드 | H7: 궁채절임 | I7: 콘샐러드 | J7: 유채나물 | L7: 도토리묵김치무침
D8: 배추김치 | E8: 깍두기 | F8: 깍두기 | G8: 배추김치 | H8: 배추김치 | I8: 배추김치 | J8: 깍두기 | L8: 김치참치덮밥
B9: 대체식 | L9: 간장계란밥
B10: Plus bar | D10: 브레드*잼 | E10: 브레드*잼 | F10: 브레드*잼 | G10: 브레드*잼 | H10: 브레드*잼 | I10: 브레드*잼 | J10: 브레드*잼 | L10: 양념치킨 _순살가라아게8700 | O10: 로제떡볶이
D11: 시리얼*우유 | E11: 시리얼*우유 | F11: 시리얼*우유 | G11: 시리얼*우유 | H11: 시리얼*우유 | I11: 시리얼*우유 | J11: 시리얼*우유 | L11: 카레우동 | O11: 미니)뉴욕식핫도그
D12: 샐러드*드레싱 | E12: 샐러드*드레싱 | F12: 샐러드*드레싱 | G12: 샐러드*드레싱 | H12: 샐러드*드레싱 | I12: 샐러드*드레싱 | J12: 샐러드*드레싱 | L12: 치킨마요덮밥(참치) | O12: 어묵탕
B13: Price | D13: 4,000원 | E13: 4,000원 | F13: 4,000원 | G13: 4,000원 | H13: 4,000원 | I13: 4,000원 | J13: 4,000원 | L13: 참치생야채비빔밥(제육) | O13: 쌀밥
B14: 판매식A | D14: 치즈라면 | E14: 만두라면 | F14: 달걀라면 | G14: 치즈라면 | H14: 만두라면 | I14: [식당 이용 시간] 조식 : 08:00-09:00 중식 : 11:30-13:30 석식 : 17:30-19:00 ※주말-라면/돈까스 미운영※ 식당 이용에 참고 부탁드립니다. | L14: 순대국밥 | O14: 단무지무침
B15: Price | D15: 4,500원 | E15: 4,500원 | F15: 4,500원 | G15: 4,500원 | H15: 4,500원 | L15: 우엉채땅콩조림
B16: 판매식B | D16: 등심돈까스 | E16: 치킨까스 | F16: 등심돈까스 | G16: 치킨까스 | H16: 등심돈까스 | L16: 건파래볶음 | M16: 건새우애호박볶음
B17: Price | D17: 4,500원 | E17: 4,500원 | F17: 4,500원 | G17: 4,500원 | H17: 4,500원 | L17: 오이미역초무침 | M17: 햄샌드위치
B18: 중식 | D18: 순살닭볶음탕 | E18: 치킨마요덮밥 | F18: 해물짬뽕 | G18: 시래기제육볶음 | H18: 전주비빔밥 | I18: 피쉬앤칩스&타르S | J18: 바지락칼제비 | L18: 건새우그린빈볶음 | M18: 진미채마늘쫑볶음
D19: 콩나물부추무침 | E19: 매콤어묵볶음 | F19: 크리미어니언탕수육 | G19: 아욱된장국 | H19: &계란프라이 | I19: 미니비빔막국수 | J19: 김치메밀전병&초간장 | L19: 분식데이
D20: 마카로니샐러드 | E20: 구운버섯샐러드&오리엔탈S | F20: 새송이굴소스볶음 | G20: 감자채햄볶음 | H20: 청국장찌개 | I20: 미역오이냉국 | J20: 고춧잎무침 | L20: 매콤떡볶이 | M20: [Self 타코/브리또] 나시고랭볶음밥 | N20: 깍두기
D21: 쌀밥 | E21: 우동장국 | F21: 추가쌀밥 | G21: 쌀밥 | H21: 고들빼기무침 | I21: 쌀밥 | J21: 추가쌀밥 | L21: 모둠튀김/순대찜 | M21: 가라아게2PC/또띠아
D22: 깍두기 | E22: 깍두기 | F22: 짜사이무침 | G22: 배추김치 | H22: 배추김치 | I22: 깍두기 | J22: 깍두기 | L22: 우동장국 | M22: 양배추샐러드&케이준S
D23: 815사이다 | E23: 오렌지주스 | F23: 유자차 | G23: 보리과자 | H23: 망고주스 | I23: 식혜 | J23: 파인애플주스 | L23: 단무지무침 | M23: 맑은배춧국
B24: 대체식 | L24: 배추김치 | M24: 오이피클
B25: Price | D25: 4,000원 | E25: 4,000원 | F25: 4,000원 | G25: 4,000원 | H25: 4,000원 | I25: 4,000원 | J25: 4,000원
B26: 석식 | D26: 해장콩나물라면 | E26: 닭곰탕&소면사리 | F26: 깻잎순대볶음 | G26: 숯불고기쌀국수 | H26: 햄김치볶음밥 | I26: 참치두부두루치기 | J26: 어떡햄볶음 | L26: 얼큰숙주쌀국수 | M26: 비빔마제소바
D27: 왕만두찜&초간장 | E27: 김치전&초간장 | F27: 멸치수제비국 | G27: 모둠춘권&칠리S | H27: 옛날핫도그&케찹 | I27: 한식잡채 | J27: 야채굴소스볶음밥 | L27: 사모사튀김&칠리S | M27: 꼬치어묵국
D28: 치커리두부무침 | E28: 건새우애호박볶음 | F28: 연두부&흑임자S | G28: 공심채볶음 | H28: 알감자조림 | I28: 참깨계란탕 | J28: 맑은콩나물국 | L28: 시금치햄볶음 | M28: 제주고기국수
D29: 쌀밥 | E29: 쌀밥 | F29: 쌀밥 | G29: 쌀밥 | H29: 열무된장국 | I29: 쌀밥 | J29: 미역줄기볶음 | L29: 쌀밥
D30: 배추김치 | E30: 배추김치 | F30: 깍두기 | G30: 당근무초생채 | H30: 반달단무지 | I30: 깍두기 | J30: 배추김치 | L30: 깍두기 | M30: 함박스테이크&데미S
D31: 딸기주스 | E31: 요구르트 | F31: 초코크리스피 | G31: 매실주스 | H31: 밀크쌀과자 | I31: 레몬주스 | J31: 청포도사탕 | M31: 야채볶음밥
B32: 대체식 | L32: 마늘쫑진미채볶음 | M32: 크림스프
B33: Price | D33: 4,000원 | E33: 4,000원 | F33: 4,000원 | G33: 4,000원 | H33: 4,000원 | I33: 4,000원 | J33: 4,000원 | L33: 후랑크소세지구이 | M33: 피클&할라피뇨
D34: * 식단은 물품사정 및 기타 요인에 따라 변경될 수 있습니다. * 알레르기 유발식품(난류,우유,메밀,땅콩,대두,밀,고등어,게,새우,돼지고기,복숭아,토마토)이 포함되어 있는 메뉴는 필요 시 영양사님과 상의하시기 바랍니다. * 원산지 일괄표시 : 김치 (배추:국내산, 고춧가루:중국산) / 백김치(배추:중국산) / 겉절이류 (배추,얼갈이,봄동:국내산,고춧가루:중국산) / 쌀류(쌀, 흑미, 보리, 현미, 누룽지, 죽) - 국내산 / 두부류(연두부, 순두부, 판두부, 콩비지) - 대두:외국산 / 등심돈까스-돈육:국내산,계육:국내산 / 치킨까스-계육:국내산 * 문의사항은 구내식당으로 연락주시기 바랍니다. | M34: *
L38: 시래기제육볶음
L39: 냉이된장국
L40: 감자채햄볶음
L41: 쌀밥
L42: 배추김치

Sheet 솔지오
B2: 구분 | D2: 월요일 | E2: 화요일 | F2: 수요일 | G2: 목요일 | H2: 금요일 | I2: 토요일 | J2: 일요일 | L2: 소세지브로컬리볶음
D3: 45803 | E3: =D3+1 -> 45804 | F3: =E3+1 -> 45805 | G3: =F3+1 -> 45806 | H3: =G3+1 -> 45807 | I3: =H3+1 -> 45808 | J3: =I3+1 -> 45809 | L3: 김피탕
B4: 조식 | D4: 광장시장식고기완자 | E4: 소세지브로컬리볶음 | F4: 간장닭갈비 | G4: 양념고등어조림 | H4: 소떡소떡 | I4: 김치만둣국 | J4: 가지돈육볶음 | L4: 콩나물잡채
D5: 쌀밥 | E5: 쌀밥 | F5: 쌀밥 | G5: 쌀밥 | H5: 쌀밥 | I5: 쌀밥 | J5: 쌀밥 | L5: 건두부볶음
D6: 들깨미역국 | E6: 청양초된장찌개 | F6: 냉이된장국 | G6: 어묵국 | H6: 얼큰오징어뭇국 | I6: 사각햄구이&케찹 | J6: 감자고추장찌개 | L6: 분짜
D7: 무말랭이무침 | E7: 매콤마늘쫑 | F7: 건파래무침 | G7: 고구마샐러드 | H7: 궁채절임 | I7: 콘샐러드 | J7: 유채나물 | L7: 도토리묵김치무침
D8: 배추김치 | E8: 깍두기 | F8: 깍두기 | G8: 배추김치 | H8: 배추김치 | I8: 배추김치 | J8: 깍두기 | L8: 김치참치덮밥
B9: 대체식 | L9: 간장계란밥
B10: Plus bar | D10: 브레드*잼 | E10: 브레드*잼 | F10: 브레드*잼 | G10: 브레드*잼 | H10: 브레드*잼 | I10: 브레드*잼 | J10: 브레드*잼 | L10: 양념치킨 _순살가라아게8700 | O10: 로제떡볶이
D11: 시리얼*우유 | E11: 시리얼*우유 | F11: 시리얼*우유 | G11: 시리얼*우유 | H11: 시리얼*우유 | I11: 시리얼*우유 | J11: 시리얼*우유 | L11: 카레우동 | O11: 미니)뉴욕식핫도그
D12: 샐러드*드레싱 | E12: 샐러드*드레싱 | F12: 샐러드*드레싱 | G12: 샐러드*드레싱 | H12: 샐러드*드레싱 | I12: 샐러드*드레싱 | J12: 샐러드*드레싱 | L12: 치킨마요덮밥(참치) | O12: 어묵탕
B13: Price | D13: 4,000원 | E13: 4,000원 | F13: 4,000원 | G13: 4,000원 | H13: 4,000원 | I13: 4,000원 | J13: 4,000원 | L13: 참치생야채비빔밥(제육) | O13: 쌀밥
B14: 판매식A | D14: 치즈라면 | E14: 만두라면 | F14: 달걀라면 | G14: 치즈라면 | H14: 만두라면 | I14: [식당 이용 시간] 조식 : 08:00-09:00 중식 : 11:30-13:30 석식 : 17:30-19:00 ※주말-라면/돈까스 미운영※ 식당 이용에 참고 부탁드립니다. | L14: 순대국밥 | O14: 단무지무침
B15: Price | D15: 4,500원 | E15: 4,500원 | F15: 4,500원 | G15: 4,500원 | H15: 4,500원 | L15: 우엉채땅콩조림
B16: 판매식B | D16: 등심돈까스 | E16: 치킨까스 | F16: 등심돈까스 | G16: 치킨까스 | H16: 등심돈까스 | L16: 건파래볶음 | M16: 건새우애호박볶음
B17: Price | D17: 4,500원 | E17: 4,500원 | F17: 4,500원 | G17: 4,500원 | H17: 4,500원 | L17: 오이미역초무침 | M17: 햄샌드위치
B18: 중식 | D18: 순살닭볶음탕 | E18: 치킨마요덮밥 | F18: 해물짬뽕 | G18: 시래기제육볶음 | H18: 전주비빔밥 | I18: 피쉬앤칩스&타르S | J18: 바지락칼제비 | L18: 건새우그린빈볶음 | M18: 진미채마늘쫑볶음
D19: 콩나물부추무침 | E19: 매콤어묵볶음 | F19: 크리미어니언탕수육 | G19: 아욱된장국 | H19: &계란프라이 | I19: 미니비빔막국수 | J19: 김치메밀전병&초간장 | L19: 분식데이
D20: 마카로니샐러드 | E20: 구운버섯샐러드&오리엔탈S | F20: 새송이굴소스볶음 | G20: 감자채햄볶음 | H20: 청국장찌개 | I20: 미역오이냉국 | J20: 고춧잎무침 | L20: 매콤떡볶이 | M20: [Self 타코/브리또] 나시고랭볶음밥 | N20: 깍두기
D21: 쌀밥 | E21: 우동장국 | F21: 추가쌀밥 | G21: 쌀밥 | H21: 고들빼기무침 | I21: 쌀밥 | J21: 추가쌀밥 | L21: 모둠튀김/순대찜 | M21: 가라아게2PC/또띠아
D22: 깍두기 | E22: 깍두기 | F22: 짜사이무침 | G22: 배추김치 | H22: 배추김치 | I22: 깍두기 | J22: 깍두기 | L22: 우동장국 | M22: 양배추샐러드&케이준S
D23: 815사이다 | E23: 오렌지주스 | F23: 유자차 | G23: 보리과자 | H23: 망고주스 | I23: 식혜 | J23: 파인애플주스 | L23: 단무지무침 | M23: 맑은배춧국
B24: 대체식 | L24: 배추김치 | M24: 오이피클
B25: Price | D25: 4,000원 | E25: 4,000원 | F25: 4,000원 | G25: 4,000원 | H25: 4,000원 | I25: 4,000원 | J25: 4,000원
B26: 석식 | D26: 꼬치어묵우동 | E26: 닭곰탕&소면사리 | F26: 깻잎순대볶음 | G26: 숯불고기쌀국수 | H26: 햄김치볶음밥 | I26: 참치두부두루치기 | J26: 어떡햄볶음 | L26: 얼큰숙주쌀국수 | M26: 비빔마제소바
D27: 왕만두찜&초간장 | E27: 김치전&초간장 | F27: 멸치수제비국 | G27: 모둠춘권&칠리S | H27: 옛날핫도그&케찹 | I27: 한식잡채 | J27: 야채굴소스볶음밥 | L27: 사모사튀김&칠리S | M27: 꼬치어묵국
D28: 치커리두부무침 | E28: 건새우애호박볶음 | F28: 연두부&흑임자S | G28: 공심채볶음 | H28: 알감자조림 | I28: 참깨계란탕 | J28: 맑은콩나물국 | L28: 시금치햄볶음 | M28: 제주고기국수
D29: 쌀밥 | E29: 쌀밥 | F29: 쌀밥 | G29: 쌀밥 | H29: 열무된장국 | I29: 쌀밥 | J29: 미역줄기볶음 | L29: 쌀밥
D30: 배추김치 | E30: 배추김치 | F30: 깍두기 | G30: 당근무초생채 | H30: 반달단무지 | I30: 깍두기 | J30: 배추김치 | L30: 깍두기 | M30: 함박스테이크&데미S
D31: 딸기주스 | E31: 요구르트 | F31: 초코크리스피 | G31: 매실주스 | H31: 밀크쌀과자 | I31: 레몬주스 | J31: 청포도사탕 | M31: 야채볶음밥
B32: 대체식 | L32: 마늘쫑진미채볶음 | M32: 크림스프
B33: Price | D33: 4,000원 | E33: 4,000원 | F33: 4,000원 | G33: 4,000원 | H33: 4,000원 | I33: 4,000원 | J33: 4,000원 | L33: 후랑크소세지구이 | M33: 피클&할라피뇨
D34: * 식단은 물품사정 및 기타 요인에 따라 변경될 수 있습니다. * 알레르기 유발식품(난류,우유,메밀,땅콩,대두,밀,고등어,게,새우,돼지고기,복숭아,토마토)이 포함되어 있는 메뉴는 필요 시 영양사님과 상의하시기 바랍니다. * 원산지 일괄표시 : 김치 (배추:국내산, 고춧가루:중국산) / 백김치(배추:중국산) / 겉절이류 (배추,얼갈이,봄동:국내산,고춧가루:중국산) / 쌀류(쌀, 흑미, 보리, 현미, 누룽지, 죽) - 국내산 / 두부류(연두부, 순두부, 판두부, 콩비지) - 대두:외국산 / 등심돈까스-돈육:국내산,계육:국내산 / 치킨까스-계육:국내산 * 문의사항은 구내식당으로 연락주시기 바랍니다. | M34: *
L38: 시래기제육볶음
L39: 냉이된장국
L40: 감자채햄볶음
L41: 쌀밥
L42: 배추김치

Sheet 청운숙
A2: 구분 | C2: 월요일 | D2: 화요일 | E2: 수요일 | F2: 목요일 | G2: 금요일 | H2: 토요일 | I2: 일요일
C3: 45803 | D3: =C3+1 -> 45804 | E3: =D3+1 -> 45805 | F3: =E3+1 -> 45806 | G3: =F3+1 -> 45807 | H3: =G3+1 -> 45808 | I3: =H3+1 -> 45809
A4: 조식 | C4: 고깃집맛소금구이 | D4: 소세지브로컬리볶음 | E4: 간장찜닭 | F4: 양념고등어조림 | G4: 소떡소떡 | H4: 김치만둣국 | I4: 마라맛가지돈육볶음
C5: 쌀밥 | D5: 쌀밥 | E5: 쌀밥 | F5: 쌀밥 | G5: 쌀밥 | H5: 쌀밥 | I5: 쌀밥
C6: 들깨미역국 | D6: 청양초된장찌개 | E6: 냉이된장국 | F6: 어묵국 | G6: 얼큰오징어뭇국 | H6: 사각햄구이&케찹 | I6: 팽이장국
C7: 무말랭이무침 | D7: 매콤마늘쫑 | E7: 건파래무침 | F7: 고구마샐러드 | G7: 궁채절임 | H7: 콘샐러드 | I7: 북어채고추장조림
C8: 배추김치 | D8: 깍두기 | E8: 깍두기 | F8: 배추김치 | G8: 배추김치 | H8: 배추김치 | I8: 깍두기
A9: Plus bar | C9: 브레드*잼 | D9: 브레드*잼 | E9: 브레드*잼 | F9: 브레드*잼 | G9: 브레드*잼 | H9: 브레드*잼 | I9: 브레드*잼
C10: 시리얼*우유 | D10: 시리얼*우유 | E10: 시리얼*우유 | F10: 시리얼*우유 | G10: 시리얼*우유 | H10: 시리얼*우유 | I10: 시리얼*우유
C11: 샐러드*드레싱 | D11: 샐러드*드레싱 | E11: 샐러드*드레싱 | F11: 샐러드*드레싱 | G11: 샐러드*드레싱 | H11: 샐러드*드레싱 | I11: 샐러드*드레싱
A12: Price | C12: 4,000원 | D12: 4,000원 | E12: 4,000원 | F12: 4,000원 | G12: 4,000원 | H12: 4,000원 | I12: 4,000원
A13: 판매식A | C13: 만두라면 | D13: 치즈라면 | E13: 달걀라면 | F13: 떡라면 | G13: 만두라면 | H13: 치즈라면 | I13: 떡라면
A14: Price | C14: 4,000원 | D14: 4,000원 | E14: 4,000원 | F14: 4,000원 | G14: 4,000원
A15: 판매식B | C15: 등심돈까스+감자튀김,샐러드 (돈육/계육:국내산) | D15: 등심돈까스+감자튀김,샐러드 (돈육/계육:국내산) | E15: 등심돈까스+감자튀김,샐러드 (돈육/계육:국내산) | F15: 등심돈까스+감자튀김,샐러드 (돈육/계육:국내산) | G15: 등심돈까스+감자튀김,샐러드 (돈육/계육:국내산)
A16: Price | C16: 4,500원 | D16: 4,500원 | E16: 4,500원 | F16: 4,500원 | G16: 4,500원 | H16: 4,000원 | I16: 4,000원
A17: 중식 | C17: 매콤닭볶음탕 | D17: 치킨마요덮밥 | E17: 해물짬뽕 | F17: 돈육김치볶음 | G17: 전주비빔밥 | H17: 피쉬앤칩스&타르S | I17: 얼큰고추장칼제비
C18: 다시마감자국 | D18: 매콤어묵볶음 | E18: 명란어니언탕수육 | F18: 맑은콩나물국 | G18: &계란후라이 | H18: 비빔막국수 | I18: 김치메밀전병&초간장
C19: 마카로니샐러드 | D19: 구운버섯샐러드 | E19: 새송이맛살볶음 | F19: 감자채햄볶음 | G19: 청국장찌개 | H19: 청량초바지락국 | I19: 고춧잎무침
C20: 쌀밥 | D20: 우동장국 | E20: 쌀밥 | F20: 쌀밥 | G20: 해물동그랑땡 | H20: 쌀밥 | I20: 쌀밥
C21: 깍두기 | D21: 배추김치 | E21: 깍두기 | F21: 깍두기 | G21: 배추김치 | H21: 깍두기 | I21: 배추김치
C22: 디저트 | D22: 디저트 | E22: 디저트 | F22: 디저트 | G22: 디저트 | H22: 디저트 | I22: 디저트
A23: Price | C23: 4,000원 | D23: 4,000원 | E23: 4,000원 | F23: 4,000원 | G23: 4,000원 | H23: 4,000원 | I23: 4,000원
A24: 석식 | C24: 꼬치어묵우동 | D24: 닭곰탕&당면사리 | E24: 깻잎순대볶음 | F24: 숯불고기쌀국수 | G24: 햄김치볶음밥 | H24: 참치두부두루치기 | I24: 어떡햄볶음
C25: 손만두찜&초간장 | D25: 김치전&초간장 | E25: 멸치수제비국 | F25: 모둠춘권&스위트칠리S | G25: 옛날핫도그&케찹 | H25: 한식잡채 | I25: 야채굴소스볶음밥
C26: 치커리두부무침 | D26: 건새우애호박볶음 | E26: 연두부&흑임자S | F26: 공심채볶음 | G26: 알감자조림 | H26: 참깨계란탕 | I26: 가쓰오장국
C27: 쌀밥 | D27: 쌀밥 | E27: 쌀밥 | F27: 쌀밥 | G27: 열무된장국 | H27: 쌀밥 | I27: 미역줄기볶음
C28: 배추김치 | D28: 배추김치 | E28: 배추김치 | F28: 깍두기 | G28: 반달단무지 | H28: 깍두기 | I28: 배추김치
C29: 디저트 | D29: 디저트 | E29: 디저트 | F29: 디저트 | G29: 디저트 | H29: 디저트 | I29: 디저트
A30: Price | C30: 4,000원 | D30: 4,000원 | E30: 4,000원 | F30: 4,000원 | G30: 4,000원 | H30: 4,000원 | I30: 4,000원
C31: * 식단은 물품사정 및 기타 요인에 따라 변경될 수 있습니다. * 알레르기 유발식품(난류,우유,메밀,땅콩,대두,밀,고등어,게,새우,돼지고기,복숭아,토마토)이 포함되어 있는 메뉴는 필요 시 영양사님과 상의하시기 바랍니다. * 원산지 일괄표시 : 김치 (배추:국내산, 고춧가루:중국산) / 백김치(배추:중국산) / 겉절이류 (배추,얼갈이,봄동:국내산,고춧가루:중국산) / 쌀류(쌀, 흑미, 보리, 현미, 누룽지, 죽) - 국내산 / 두부류(연두부, 순두부, 판두부, 콩비지) - 대두:외국산 / 등심돈까스-돈육/계육:국내산 * 문의사항은 구내식당으로 연락주시기 바랍니다.

Sheet 25.04.2주차(영)
B2: 구분 | D2: Monday | E2: Tuesday | F2: Wednesday | G2: Thursday | H2: Friday | I2: Saturday | J2: Sunday
D3: 7:30~8:30 | E3: 7:30~8:30 | F3: 7:30~8:30 | G3: 7:30~8:30 | H3: 7:30~8:30 | I3: 8:00~9:00 | J3: 8:00~9:00
D4: 45754 | E4: =D4+1 -> 45755 | F4: =D4+2 -> 45756 | G4: =D4+3 -> 45757 | H4: =D4+4 -> 45758 | I4: =D4+5 -> 45759 | J4: =D4+6 -> 45760
B5: Breakfast | C5: korean food | D5: Dried Pollack Soup | E5: Braised meatball derry-yaki (chicken:korea) | F5: Steamed vegetable eggs | G5: Shrimp Cutlet&tartar | H5: Stir-fried Julienned Ham and Potato (Ham-chicken:korea) | I5: Grilled egg tofu | J5: Braised Quail Eggs in Soy Sauce
D6: rice | E6: rice | F6: rice | G6: rice | H6: rice | I6: rice | J6: rice
D7: Fried crab meat | E7: Pureed Soybean Jjigae | F7: canola bean paste soup | G7: egg rice cake soup | H7: Squid and Radish Soup ( squid: Peru) | I7: Dried Radish Leaf Soybean Paste Soup | J7: Napa Cabbage Soybean Paste Soup
D8: Fried crab meat | E8: Julienne Radish Fresh Salad | F8: canola bean paste soup | G8: Pickled Radish | H8: Cheonggyeongchae geotjeori | I8: stir-fried anchovies | J8: Myeongyupchae
D9: kimchi | E9: kimchi | F9: kimchi | G9: kimchi | H9: kimchi | I9: kimchi | J9: kimchi
C10: Plus bar | D10: Bread*jam | E10: Bread*jam | F10: Bread*jam | G10: Bread*jam | H10: Bread*jam | I10: Bread*jam | J10: Bread*jam
D11: Cereal*milk | E11: Cereal*milk | F11: Cereal*milk | G11: Cereal*milk | H11: Cereal*milk | I11: Cereal*milk | J11: Cereal*milk
D12: Salad & Dressing | E12: Salad & Dressing | F12: Salad & Dressing | G12: Salad & Dressing | H12: Salad & Dressing | I12: Salad & Dressing | J12: Salad & Dressing
B13: Lunch 12:00~ 13:00 | D13: 4,000won | E13: 4,000won | F13: 4,000won | G13: 4,000won | H13: 4,000won | I13: 4,000won | J13: 4,000won
D14: Bean Sprout Ramen(Self) | E14: Mandu Ramen(Self) | F14: Bean Sprout Ramen(Self) | G14: Mandu Ramen(Self) | H14: Bean Sprout Ramen(Self)) | I14: Cheese Ramen(Self) | J14: Cheese Ramen(Self)
D15: 4,000원 | E15: 4,000원 | F15: 4,000원 | G15: 4,000원 | H15: 4,000원 | I15: 4,000원 | J15: 4,000원
C16: CORNER A-1 | D16: Pork Cutlet(Pork:Korea) | E16: Chicken Cutlet(Chicken:Korea) | F16: Pork Cutlet(Pork:Korea) | G16: Chicken Cutlet(Chicken:Korea) | H16: Pork Cutlet(Pork:Korea) | I16: ※ Weekend not open ※ | J16: ※ Weekend not open ※
C17: CORNER A-2 | D17: SELF-RAMEN | E17: SELF-RAMEN | F17: SELF-RAMEN | G17: SELF-RAMEN | H17: SELF-RAMEN | I17: SELF-RAMEN | J17: SELF-RAMEN
C18: korean food | D18: Stir-fried chicken with hot red bean sauce (chicken:Brazil,korea mix) | E18: Bacon egg fried rice (Pork:foreign) | F18: Jjamppong soft tofu pasta | G18: Tofu and soy bean paste with rice | H18: perilla oil makguksu | I18: Fried Chicken and Mayonnaise with Rice (chicken:korea) | J18: Sausage and Rice Cake Skewers (sausage-chicken:korea)
D19: rice | E19: Tofu Kimchi soup | F19: rice | G19: rice | H19: rice | I19: rice | J19: rice
D20: Shepherd's Purse Soybean Paste Soup | E20: Stir-fried Vienna Green Vince | F20: Cream Soup | G20: Curled Mallow Soybean Paste Soup | H20: Winter Cabbage Soybean Paste Soup | I20: udon bean paste soup | J20: beef bone soup&Sliced noodles
D21: Dried Radish Salad | E21: Seasoned Bean Sprouts | F21: cucumber pickle | G21: Deep-fried Mandu | H21: Fried Egg | I21: Dried Radish Salad | J21: godeulppaegi
D22: kimchi | E22: kimchi | F22: kimchi | G22: kimchi | H22: kimchi | I22: kimchi | J22: kimchi
D23: rice cookie | E23: Honey Rich Rice Snack | F23: Macaroni Salad | G23: Mini Choco Krispy | H23: yogurt | I23: Sweet Rice Punch | J23: Green Plum Juice
B24: Dinner | C24: korean food | D24: 18:00~19:00 | E24: 18:00~19:00 | F24: 18:00~19:00 | G24: 18:00~19:00 | H24: 18:00~19:00 | I24: 18:00~19:00 | J24: 18:00~19:00
D25: Corn cheese tteokbokki | E25: Chicken Curry Rice (chicken:korea) | F25: Tuna and Kimchi Jjigae (tuna:tuna) | G25: Spicy Kimchi Noodles | H25: Gimbap fried rice (Ham-chicken:korea) | I25: Rice Cake Japchae | J25: Spicy Chicken Soup (chicken:korea)
D26: rice | E26: rice | F26: rice | G26: rice | H26: bean sprouts soup | I26: rice | J26: rice
D27: Fishcake Soup | E27: Seaweed Soup | F27: Fried mini pine mushroom | G27: Fish Cutlet with Tartar Sauce | H27: Stir-fried Fishcake | I27: egg soup | J27: Stir-fried crab meat and seaweed | N27: Ham kimchi stew
D28: Fried seaweed roll and squid bar (squid:foreign) | E28: Mini pork cutlet & ketchup (Pork:Korea,chicken:korea) | F28: pickled perilla leaves | G28: pickled radish | H28: Sweet and sour seaweed roll rice cake | I28: braised lotus root nuts | J28: Raddle sesame greens
D29: kimchi | E29: kimchi | F29: kimchi | G29: kimchi | H29: kimchi | I29: kimchi | J29: kimchi
D30: Shrimp chips | E30: Orange Juice | F30: Milk rice snack | G30: grape juice drink. | H30: barley bread | I30: barley cake | J30: Orange Juice
D31: * 식단은 물품사정 및 기타 요인에 따라 변경될 수 있습니다. * 알레르기 유발식품(난류,우유,메밀,땅콩,대두,밀,고등어,게,새우,돼지고기,복숭아,토마토)이 포함되어 있는 메뉴는 필요 시 영양사님과 상의하시기 바랍니다 * 원산지 일괄표시 : 배추김치류(포기김치,찌개용, 볶음용 김치류) - 배추,고춧가루 : 중국산 / 배추겉절이-배추(얼갈이,봄동포함):국내산,고춧가루:중국산 백김치-배추(중국산) / 밥,죽,누룽지-쌀류(백미,흑미,현미,찹쌀) : 국내산 / 두부류(연두부,순두부,판두부,콩비지):대두-외국산 * 문의사항은 구내식당 영양사 김경수 (ks.kim41@cj.net)로 연락주시기 바랍니다.

Sheet 조리지침서25.04.2차
B1: 조리지침서 | G1: =#REF! -> #REF! | H1: =[1]솔지오!D2 -> 월요일
B2: 날짜 | C2: 식단명 | D2: 재료명 | E2: 1인량 | G2: 주문량 | H2: 비고
B3: 조식 | C3: 쌀밥 | D3: 일반미 | F3: =$B$4*E3/1000 -> 0
B4: 70 | C4: 북어콩나물국 | D4: 콩나물/무 | E4: 20 | F4: =$B$4*E4/1000 -> 1.4
D5: 북어채 | F5: =$B$4*E5/1000 -> 0
C6: 게맛살볶음 | D6: 게맛살 | F6: =$B$4*E6/1000 -> 0
D7: 양배추/양파/당근 | E7: 10 | F7: =$B$4*E7/1000 -> 0.7
C8: 느타리버섯볶음 | D8: 느타리버섯/냉동느타리버섯 | E8: 30 | F8: =$B$4*E8/1000 -> 2.1
D9: 냉동청피망 | E9: 10 | F9: =$B$4*E9/1000 -> 0.7
D10: 양파/당근 | F10: =$B$4*E10/1000 -> 0
C11: 배추김치 | D11: 배추김치 | E11: 40 | F11: =$B$4*E11/1000 -> 2.8
C12: 브래드*잼/시리얼*우유 | D12: 브래드*잼 /시리얼+우유 | F12: =$B$4*E12/1000 -> 0
C13: 그린샐러드*드레싱 | D13: 깐양배추/당근/드레싱 | F13: =$B$4*E13/1000 -> 0
B15: 판매식A | C15: 라면 | D15: 진라면(매운/순한)
B16: 판매식B | C16: 등심돈까스 | D16: 등심돈까스,양배추*드레싱,감자튀김,쌀밥,오이피클
B17: 중식 | C17: 쌀밥 | D17: 일반미 | F17: =#REF!*E17/1000 -> #REF!
B18: 110 | C18: 청양간장닭볶음 | D18: ck간장닭볶음 | E18: 100 | F18: =$B$18*E18/1000 -> 11
D19: 볼어묵 | E19: 20 | F19: =$B$18*E19/1000 -> 2.2
D20: 양배추/양파/당근/냉동청양고추 | E20: 10 | F20: =$B$18*E20/1000 -> 1.1
D21: 떡볶이떡 | E21: 20 | F21: =$B$18*E21/1000 -> 2.2
D22: 닭가슴살 | E22: 30 | F22: =$B$18*E22/1000 -> 3.3
C23: 냉이된장찌개 | D23: 냉동냉이 | E23: 20 | F23: =$B$18*E23/1000 -> 2.2
D24: 판두부3kg | E24: 30 | F24: =$B$18*E24/1000 -> 3.3
C25: 무말랭이무침 | E25: 25 | F25: =$B$18*E25/1000 -> 2.75
E26: 50 | F26: =$B$18*E26/1000 -> 5.5
C27: 배추김치 | D27: 배추김치 | E27: 40 | F27: =$B$18*E27/1000 -> 4.4
E28: 10 | F28: =$B$18*E28/1000 -> 1.1
B30: 석식 | C30: 쌀밥 | D30: 일반미 | F30: =$B$31*E30/1000 -> 0
B31: 150 | C31: 콘치즈떡볶이 | D31: 떡볶이떡 | E31: 70 | F31: =$B$31*E31/1000 -> 10.5
D32: 사각어묵/볼어묵 | E32: 20 | F32: =$B$31*E32/1000 -> 3
D33: 옥수수콘 | E33: 10 | F33: =$B$31*E33/1000 -> 1.5
D34: 눈꽃치즈 | E34: 30 | F34: =$B$31*E34/1000 -> 4.5
F35: =$B$31*E35/1000 -> 0
C36: 어묵국 | D36: 사각어묵 | E36: 30 | F36: =$B$31*E36/1000 -> 4.5
D37: 무우 | E37: 8 | F37: =$B$31*E37/1000 -> 1.2
C38: 오징어바튀김 | D38: 오징어바 | E38: 50 | F38: =$B$31*E38/1000 -> 7.5
E39: 5 | F39: =$B$31*E39/1000 -> 0.75
C40: 배추김치 | D40: 배추김치 | E40: 40 | F40: =$B$31*E40/1000 -> 6
C41: 알새우칩 | D41: 알새우칩 | E41: 20 | F41: =$B$145*E41/1000 -> 2.2
B43: 조리지침서 | G43: =G1+1 -> #REF! | H43: =[1]솔지오!E2 -> 화요일
...

Sheet 조리공정일지25.04.1주차
A2: 제공일자 | B2: =#REF! -> #REF! | D2: 조리 공정 일지
A3: 확 인 자 | B3: 김경수 (서명)
A5: 끼니/코너명 (보존식 수량) | B5: 메뉴명 | D5: 생야채/과일 소독 완료 식재명 | E5: 품온 측정 대상 / 온도 | F5: 조리 완료 시간 | G5: 검식 결과
A6: 조식 | B6: =#REF! -> #REF! | E6: / ℃ | F6: :
B7: ='[2]25.02.4주차'!D6 -> 쌀밥 | E7: / ℃ | F7: :
B8: =#REF! -> #REF! | E8: / ℃ | F8: :
B9: =#REF! -> #REF! | E9: / ℃ | F9: :
B10: =#REF! -> #REF! | E10: / ℃ | F10: :
B11: ='[2]25.02.4주차'!D10 -> 브래드*잼 | E11: / ℃ | F11: :
B12: ='[2]25.02.4주차'!D11 -> 시리얼*우유 | E12: / ℃ | F12: :
B13: ='[2]25.02.4주차'!D12 -> 그린샐러드*드레싱 | D13: 양배추 / 당근 | E13: / ℃ | F13: :
A14: 판매식A | B14: ='[2]25.02.4주차'!D14 -> 셀프라면(SELF) | E14: / ℃ | F14: :
A15: 판매식B | B15: ='[2]25.02.4주차'!D16 -> 등심돈까스(돈육:국산) | E15: / ℃ | F15: :
B16: 그린샐러드*드레싱 | D16: 양배추 /당근
B17: 피클 | E17: / ℃ | F17: :
A18: 중식 | B18: =#REF! -> #REF! | E18: / ℃ | F18: :
B19: ='[2]25.02.4주차'!D19 -> 쌀밥 | E19: / ℃ | F19: :
B20: =#REF! -> #REF! | E20: / ℃ | F20: :
B21: =#REF! -> #REF! | E21: / ℃ | F21: :
B22: =#REF! -> #REF! | E22: / ℃ | F22: :
B23: =#REF! -> #REF! | E23: / ℃ | F23: :
A24: 석식 | B24: =#REF! -> #REF! | E24: / ℃ | F24: :
B25: ='[2]25.02.4주차'!D26 -> 쌀밥 | E25: / ℃ | F25: :
B26: =#REF! -> #REF! | E26: / ℃ | F26: :
B27: =#REF! -> #REF! | E27: / ℃ | F27: :
B28: =#REF! -> #REF! | E28: / ℃ | F28: :
B29: =#REF! -> #REF! | E29: / ℃ | F29: :
A31: 소독 방법 | B31: 운영방법(택1) | D31: 측정 결과
A32: 식기세척기 헹굼물 | B32: O | D32: 조 ( ) 중 ( ) 석 ( )
A34: 이탈사항 및 개선조치
A35: ■ 위생 관리 기준
A36: ① 생야채·과일 소독 | D36: ▪ 애벌세척 → 염소수 100ppm 제조 → 페이퍼 색 변화 체크 → 5분 침지 → 3회 이상 헹굼 → 절단
A37: ② 중심온도 측정 | D37: ▪ 중심 온도계 알코올 소독 → 중심온도 체크 → 기준 온도 도달 후 1 분 추가 가열 [75℃ : 전, 구이, 볶음, 조림 / 85℃ : 국, 탕, 찌개, 튀김, 찜]
A38: ③ 배식 | D38: ▪ 첫 Batch 조리 완료 후 정해진 시간 내에 배식 완료 [실온 배식: 3시간 이내, 지하수 점포: 2시간 이내, 적온 배식: 4시간 이내]
A39: ④ 검식 | D39: ▪ 맛, 냄새, 색깔, 이물 등 확인 후 O,X 기록
A40: ⑤ 보존식 | D40: ▪ 전 메뉴 1인 분량을 개별 용기에 담은 후 -18℃ 이하 냉동고에서 144시간(6일) 보관
A41: ⑥ 식기 세척·소독 | D41: ▪ 식기세척기 헹굼물 온도 82 이상 or 건열소독고 식기 표면온도 71 이상 or 열탕소독, 화학소독
A43: 제공일자 | B43: =B2+1 -> #REF! | D43: 조리 공정 일지
A44: 확 인 자 | B44: =B3 -> 김경수 (서명)
A46: 끼니/코너명 (보존식 수량) | B46: 메뉴명 | D46: 생야채/과일 소독 완료 식재명 | E46: 품온 측정 대상 / 온도 | F46: 조리 완료 시간 | G46: 검식 결과
...

Sheet 보존식25.04.01주차
A1: 보존식 TAG | F1: 보존식 TAG | K1: 보존식 TAG | P1: 보존식 TAG | U1: 보존식 TAG | Z1: 보존식 TAG | AE1: 보존식 TAG
A2: 보존일 | C2: =#REF! -> #REF! | F2: 보존일 | H2: =#REF! -> #REF! | K2: 보존일 | M2: =#REF! -> #REF! | P2: 보존일 | R2: =#REF! -> #REF! | U2: 보존일 | W2: =#REF! -> #REF! | Z2: 보존일 | AB2: =#REF! -> #REF! | AE2: 보존일 | AG2: =#REF! -> #REF!
A3: 폐기일 | C3: =C2+7 -> #REF! | D3: 갯수 | E3: 8 | F3: 폐기일 | H3: =H2+7 -> #REF! | I3: 갯수 | J3: 8 | K3: 폐기일 | M3: =M2+7 -> #REF! | N3: 갯수 | O3: 8 | P3: 폐기일 | R3: =R2+7 -> #REF! | S3: 갯수 | T3: 8 | U3: 폐기일 | W3: =W2+7 -> #REF! | X3: 갯수 | Y3: 8 | Z3: 폐기일 | AB3: =AB2+7 -> #REF! | AC3: 갯수 | AD3: 8 | AE3: 폐기일 | AG3: =AG2+7 -> #REF! | AH3: 갯수 | AI3: 8
A4: 채취자 | C4: 박미옥 | F4: 채취자 | H4: 박미옥 | K4: 채취자 | M4: 박미옥 | P4: 채취자 | R4: 박미옥 | U4: 채취자 | W4: 박미옥 | Z4: 채취자 | AB4: 박미옥 | AE4: 채취자 | AG4: 남승순
A5: 월 (조식) | B5: =#REF! -> #REF! | F5: 화 (조식) | G5: =#REF! -> #REF! | K5: 수 (조식) | L5: =#REF! -> #REF! | P5: 목 (조식) | Q5: =#REF! -> #REF! | U5: 금 (조식) | V5: =#REF! -> #REF! | Z5: 토 (조식) | AA5: =#REF! -> #REF! | AE5: 일 (조식) | AF5: =#REF! -> #REF!
B6: =#REF! -> #REF! | G6: =#REF! -> #REF! | L6: =#REF! -> #REF! | Q6: =#REF! -> #REF! | V6: =#REF! -> #REF! | AA6: =#REF! -> #REF! | AF6: =#REF! -> #REF!
B7: =#REF! -> #REF! | G7: =#REF! -> #REF! | L7: =#REF! -> #REF! | Q7: =#REF! -> #REF! | V7: =#REF! -> #REF! | AA7: =#REF! -> #REF! | AF7: =#REF! -> #REF!
B8: =#REF! -> #REF! | G8: =#REF! -> #REF! | L8: =#REF! -> #REF! | Q8: =#REF! -> #REF! | V8: =#REF! -> #REF! | AA8: =#REF! -> #REF! | AF8: =#REF! -> #REF!
B9: ='[2]25.02.4주차'!D9 -> 배추김치 | G9: ='[2]25.02.4주차'!E9 -> 배추김치 | L9: ='[2]25.02.4주차'!F9 -> 배추김치 | Q9: ='[2]25.02.4주차'!G9 -> 배추김치 | V9: ='[2]25.02.4주차'!H9 -> 배추김치 | AA9: ='[2]25.02.4주차'!I9 -> 배추김치 | AF9: ='[2]25.02.4주차'!J9 -> 배추김치
B10: ='[2]25.02.4주차'!D10 -> 브래드*잼 | G10: ='[2]25.02.4주차'!E10 -> 브래드*잼 | L10: ='[2]25.02.4주차'!F10 -> 브래드*잼 | Q10: ='[2]25.02.4주차'!G10 -> 브래드*잼 | V10: ='[2]25.02.4주차'!H10 -> 브래드*잼 | AA10: ='[2]25.02.4주차'!I10 -> 브래드*잼 | AF10: ='[2]25.02.4주차'!J10 -> 브래드*잼
B11: ='[2]25.02.4주차'!D11 -> 시리얼*우유 | G11: ='[2]25.02.4주차'!E11 -> 시리얼*우유 | L11: ='[2]25.02.4주차'!F11 -> 시리얼*우유 | Q11: ='[2]25.02.4주차'!G11 -> 시리얼*우유 | V11: ='[2]25.02.4주차'!H11 -> 시리얼*우유 | AA11: ='[2]25.02.4주차'!I11 -> 시리얼*우유 | AF11: ='[2]25.02.4주차'!J11 -> 시리얼*우유
B12: ='[2]25.02.4주차'!D12 -> 그린샐러드*드레싱 | G12: ='[2]25.02.4주차'!E12 -> 그린샐러드*드레싱 | L12: ='[2]25.02.4주차'!F12 -> 그린샐러드*드레싱 | Q12: ='[2]25.02.4주차'!G12 -> 그린샐러드*드레싱 | V12: ='[2]25.02.4주차'!H12 -> 그린샐러드*드레싱 | AA12: ='[2]25.02.4주차'!I12 -> 그린샐러드*드레싱 | AF12: ='[2]25.02.4주차'!J12 -> 그린샐러드*드레싱
A13: 보존식 TAG | F13: 보존식 TAG | K13: 보존식 TAG | P13: 보존식 TAG | U13: 보존식 TAG | Z13: 보존식 TAG | AE13: 보존식 TAG
A14: 보존일 | C14: =C2 -> #REF! | F14: 보존일 | H14: =H2 -> #REF! | K14: 보존일 | M14: =M2 -> #REF! | P14: 보존일 | R14: =R2 -> #REF! | U14: 보존일 | W14: =W2 -> #REF! | Z14: 보존일 | AB14: =AB2 -> #REF! | AE14: 보존일 | AG14: =AG2 -> #REF!
A15: 폐기일 | C15: =C14+7 -> #REF! | D15: 갯수 | E15: 8 | F15: 폐기일 | H15: =H14+7 -> #REF! | I15: 갯수 | J15: 8 | K15: 폐기일 | M15: =M14+7 -> #REF! | N15: 갯수 | O15: 7 | P15: 폐기일 | R15: =R14+7 -> #REF! | S15: 갯수 | T15: 7 | U15: 폐기일 | W15: =W14+7 -> #REF! | X15: 갯수 | Y15: 8 | Z15: 폐기일 | AB15: =AB14+7 -> #REF! | AC15: 갯수 | AD15: 7 | AE15: 폐기일 | AG15: =AG14+7 -> #REF! | AH15: 갯수 | AI15: 7
A16: 채취자 | C16: 박미옥 | F16: 채취자 | H16: 박미옥 | K16: 채취자 | M16: 박미옥 | P16: 채취자 | R16: 박미옥 | U16: 채취자 | W16: 박미옥 | Z16: 채취자 | AB16: 박미옥 | AE16: 채취자 | AG16: 남승순
A17: 월 (중식) | B17: ='[2]25.02.4주차'!D14 -> 셀프라면(SELF) | F17: 화 (중식) | G17: ='[2]25.02.4주차'!E14 -> 셀프라면(SELF) | K17: 수 (중식) | L17: ='[2]25.02.4주차'!F14 -> 셀프라면(SELF) | P17: 목 (중식) | Q17: ='[2]25.02.4주차'!G14 -> 셀프라면(SELF) | U17: 금 (중식) | V17: ='[2]25.02.4주차'!H14 -> 셀프라면(SELF) | Z17: 토 (중식) | AA17: ='[2]25.02.4주차'!I14 -> 셀프라면(SELF) | AE17: 일 (중식) | AF17: ='[2]25.02.4주차'!J14 -> 셀프라면(SELF)
B18: ='[2]25.02.4주차'!D16 -> 등심돈까스(돈육:국산) | G18: ='[2]25.02.4주차'!E16 -> 치킨까스(계육:국산) | L18: ='[2]25.02.4주차'!F16 -> 등심돈까스(돈육:국산) | Q18: ='[2]25.02.4주차'!G16 -> 치킨까스(계육:국산) | V18: ='[2]25.02.4주차'!H16 -> 등심돈까스(돈육:국산) | AA18: ='[2]25.02.4주차'!I16 -> 미운영 | AF18: ='[2]25.02.4주차'!J16 -> 0
B19: =#REF! -> #REF! | G19: =#REF! -> #REF! | L19: =#REF! -> #REF! | Q19: =#REF! -> #REF! | V19: =#REF! -> #REF! | AA19: =#REF! -> #REF! | AF19: =#REF! -> #REF!
B20: ='[2]25.02.4주차'!D19 -> 쌀밥 | G20: =#REF! -> #REF! | L20: =#REF! -> #REF! | Q20: =#REF! -> #REF! | V20: =#REF! -> #REF! | AA20: =#REF! -> #REF! | AF20: =#REF! -> #REF!
B21: =#REF! -> #REF! | G21: =#REF! -> #REF! | L21: =#REF! -> #REF! | Q21: =#REF! -> #REF! | V21: =#REF! -> #REF! | AA21: =#REF! -> #REF! | AF21: =#REF! -> #REF!
B22: =#REF! -> #REF! | G22: =#REF! -> #REF! | L22: =#REF! -> #REF! | Q22: =#REF! -> #REF! | V22: =#REF! -> #REF! | AA22: =#REF! -> #REF! | AF22: =#REF! -> #REF!
B23: ='[2]25.02.4주차'!D22 -> 배추김치 | G23: ='[2]25.02.4주차'!E22 -> 배추김치 | L23: ='[2]25.02.4주차'!F22 -> 배추김치 | Q23: =#REF! -> #REF! | V23: =#REF! -> #REF! | AA23: =#REF! -> #REF! | AF23: =#REF! -> #REF!
B24: =#REF! -> #REF! | G24: =#REF! -> #REF! | L24: =#REF! -> #REF! | Q24: =#REF! -> #REF! | V24: =#REF! -> #REF! | AA24: =#REF! -> #REF! | AF24: =#REF! -> #REF!
A25: 보존식 TAG | F25: 보존식 TAG | K25: 보존식 TAG | P25: 보존식 TAG | U25: 보존식 TAG | Z25: 보존식 TAG | AE25: 보존식 TAG
A26: 보존일 | C26: =C14 -> #REF! | F26: 보존일 | H26: =H14 -> #REF! | K26: 보존일 | M26: =M14 -> #REF! | P26: 보존일 | R26: =R14 -> #REF! | U26: 보존일 | W26: =W14 -> #REF! | Z26: 보존일 | AB26: =AB14 -> #REF! | AE26: 보존일 | AG26: =AG14 -> #REF!
A27: 폐기일 | C27: =C26+7 -> #REF! | D27: 갯수 | E27: 6 | F27: 폐기일 | H27: =H26+7 -> #REF! | I27: 갯수 | J27: 6 | K27: 폐기일 | M27: =M26+7 -> #REF! | N27: 갯수 | O27: 6 | P27: 폐기일 | R27: =R26+7 -> #REF! | S27: 갯수 | T27: 6 | U27: 폐기일 | W27: =W26+7 -> #REF! | X27: 갯수 | Y27: 5 | Z27: 폐기일 | AB27: =AB26+7 -> #REF! | AC27: 갯수 | AD27: 6 | AE27: 폐기일 | AG27: =AG26+7 -> #REF! | AH27: 갯수 | AI27: 6
A28: 채취자 | C28: 남승순 | F28: 채취자 | H28: 남승순 | K28: 채취자 | M28: 남승순 | P28: 채취자 | R28: 남승순 | U28: 채취자 | W28: 남승순 | Z28: 채취자 | AB28: 박미옥 | AE28: 채취자 | AG28: 남승순
A29: 월 (석식) | B29: =#REF! -> #REF! | F29: 화 (석식) | G29: =#REF! -> #REF! | K29: 수 (석식) | L29: =#REF! -> #REF! | P29: 목 (석식) | Q29: =#REF! -> #REF! | U29: 금 (석식) | V29: =#REF! -> #REF! | Z29: 토 (석식) | AA29: =#REF! -> #REF! | AE29: 일 (석식) | AF29: =#REF! -> #REF!
B30: =#REF! -> #REF! | G30: =#REF! -> #REF! | L30: =#REF! -> #REF! | Q30: =#REF! -> #REF! | V30: =#REF! -> #REF! | AA30: =#REF! -> #REF! | AF30: =#REF! -> #REF!
B31: =#REF! -> #REF! | G31: =#REF! -> #REF! | L31: =#REF! -> #REF! | Q31: =#REF! -> #REF! | V31: =#REF! -> #REF! | AA31: =#REF! -> #REF! | AF31: =#REF! -> #REF!
B32: =#REF! -> #REF! | G32: =#REF! -> #REF! | L32: =#REF! -> #REF! | Q32: =#REF! -> #REF! | V32: =#REF! -> #REF! | AA32: =#REF! -> #REF! | AF32: =#REF! -> #REF!
B33: =#REF! -> #REF! | G33: =#REF! -> #REF! | L33: =#REF! -> #REF! | Q33: =#REF! -> #REF! | V33: =#REF! -> #REF! | AA33: =#REF! -> #REF! | AF33: =#REF! -> #REF!
B34: =#REF! -> #REF! | G34: =#REF! -> #REF! | L34: =#REF! -> #REF! | Q34: =#REF! -> #REF! | V34: =#REF! -> #REF! | AA34: =#REF! -> #REF! | AF34: =#REF! -> #REF!

Sheet 라면보존식스티커
A1: 라면 보존식 TAG | G1: 라면 보존식 TAG
A2: 채취일 | B2: =#REF! -> #REF! | C2: 월 | D2: 메뉴 (1개) | E2: ='[2]25.02.4주차'!D14 -> 셀프라면(SELF) | G2: 채취일 | H2: =B2+5 -> #REF! | I2: 토 | J2: 메뉴 (1개) | K2: ='[2]25.02.4주차'!I14 -> 셀프라면(SELF)
A3: 폐기일 | B3: =B2+7 -> #REF! | C3: 월 | G3: 폐기일 | H3: =H2+7 -> #REF! | I3: 토
A4: 라면 보존식 TAG | G4: 라면 보존식 TAG
A5: 채취일 | B5: =B2+1 -> #REF! | C5: 화 | D5: 메뉴 (1개) | E5: ='[2]25.02.4주차'!E14 -> 셀프라면(SELF) | G5: 채취일 | H5: =B2+6 -> #REF! | I5: 일 | J5: 메뉴 (1개) | K5: ='[2]25.02.4주차'!J14 -> 셀프라면(SELF)
A6: 폐기일 | B6: =B5+7 -> #REF! | C6: 화 | G6: 폐기일 | H6: =H5+7 -> #REF! | I6: 일
A7: 라면 보존식 TAG
A8: 채취일 | B8: =B2+2 -> #REF! | C8: 수 | D8: 메뉴 (1개) | E8: ='[2]25.02.4주차'!F14 -> 셀프라면(SELF)
A9: 폐기일 | B9: =B8+7 -> #REF! | C9: 수
A10: 라면 보존식 TAG
A11: 채취일 | B11: =B2+3 -> #REF! | C11: 목 | D11: 메뉴 (1개) | E11: ='[2]25.02.4주차'!G14 -> 셀프라면(SELF)
A12: 폐기일 | B12: =B11+7 -> #REF! | C12: 목
A13: 라면 보존식 TAG
A14: 채취일 | B14: =B2+4 -> #REF! | C14: 금 | D14: 메뉴 (1개) | E14: ='[2]25.02.4주차'!H14 -> 셀프라면(SELF)
A15: 폐기일 | B15: =B14+7 -> #REF! | C15: 금
